BEGIN:VCALENDAR
VERSION:2.0
PRODID:-//wp-events-plugin.com//7.2//EN
BEGIN:VEVENT
UID:8@franklindenlauf.de
DTSTART:20260418T200000Z
DTEND:20260418T220000Z
DTSTAMP:20260121T172651Z
URL:https://franklindenlauf.de/events/frischer-jazz-zum-fruehling-2/
SUMMARY:Stay Tuned – Frischer Jazz zum Frühling
DESCRIPTION:Olivia Seck | Gesang · Nikolaus Sundhaußen | Klavier · Thoma
 s Schäfer | Bass · Frank Lindenlauf  |Gitarre
ATTACH;FMTTYPE=image/jpeg:https://franklindenlauf.de/wp-content/uploads/20
 26/01/ST2-03-Blue.png
LOCATION:KulturKapelle (KuKa) Weis\, Hauptstraße 3A\, Neuwied (Heimbach-We
 is)\, 56566\, Deutschland
X-APPLE-STRUCTURED-LOCATION;VALUE=URI;X-ADDRESS=Hauptstraße 3A\, Neuwied (
 Heimbach-Weis)\, 56566\, Deutschland;X-APPLE-RADIUS=100;X-TITLE=KulturKape
 lle (KuKa) Weis:geo:0,0
END:VEVENT
END:VCALENDAR