BEGIN:VCALENDAR
VERSION:2.0
PRODID:-//wp-events-plugin.com//7.2//EN
BEGIN:VEVENT
UID:1@franklindenlauf.de
DTSTART;TZID=Europe/Berlin:20250208T193000
DTEND;TZID=Europe/Berlin:20250208T193000
DTSTAMP:20260121T172157Z
URL:https://franklindenlauf.de/events/jazz-after-dinner-mit-stay-tuned/
SUMMARY:Stay Tuned – Jazz after Dinner
DESCRIPTION:Julia André | Gesang\,\nFrank Lindenlauf | Gitarre\,\nNikolaus
  Sundhaußen | Klavier\,\nThomas Schäfer | Bass\n\nMusikalisches Dessert 
 im Gasthaus »Zum Annemie« in Neuwied-Gladbach:\nDie neuen Betreiber des 
 Restaurants »Zum Annemie« in Neuwied Gladbach setzen die Tradition fort\
 , das kulturelle Angebot in der Region mit musikalischen Live Events zu be
 leben.\nAm Samstag\, 8. Februar heißt es dort um 19:30 Uhr »Bühne frei
 « für die Formation »Stay Tuned«\, die diesen Abend der Musik bekannte
 r Jazz- und Popgrößen widmet. Klassiker wie »Fly Me To The Moon« oder 
 Michael Jackson's »Man In The Mirror« werden im frischen\, jazzig-virtuo
 sen Gewand präsentiert.\nJulia André (Gesang)\, Frank Lindenlauf (Gitarr
 e)\, Nikolaus Sundhaußen (Klavier) und Thomas Schäfer (Bass) teilen ihre
  Spielfreude\, gepaart mit langer Bühnenerfahrung und hoher Musikalität 
 gerne mit dem Publikum.\nKarten gibt es für 10 € an der Abendkasse. Res
 ervierungen direkt über das Gasthaus »Zum Annemie« unter (01 57) 50 62 
 18 71 oder info@zumannemie.de.
ATTACH;FMTTYPE=image/jpeg:https://franklindenlauf.de/wp-content/uploads/20
 25/01/StayTuned-20250208-PLAKAT.png
LOCATION:Gasthaus zum Annemie\, Sandgasse 3\, Neuwied (Gladbach)\, 56566\, 
 Deutschland
X-APPLE-STRUCTURED-LOCATION;VALUE=URI;X-ADDRESS=Sandgasse 3\, Neuwied (Glad
 bach)\, 56566\, Deutschland;X-APPLE-RADIUS=100;X-TITLE=Gasthaus zum Annemi
 e:geo:0,0
END:VEVENT
BEGIN:VTIMEZONE
TZID:Europe/Berlin
X-LIC-LOCATION:Europe/Berlin
BEGIN:STANDARD
DTSTART:20241027T020000
TZOFFSETFROM:+0200
TZOFFSETTO:+0100
TZNAME:CET
END:STANDARD
END:VTIMEZONE
END:VCALENDAR