BEGIN:VCALENDAR
VERSION:2.0
PRODID:-//wp-events-plugin.com//7.2//EN
BEGIN:VEVENT
UID:6@franklindenlauf.de
DTSTART:20260228T193000Z
DTEND:20260228T220000Z
DTSTAMP:20260130T200841Z
URL:https://franklindenlauf.de/events/jazz-after-dinner/
SUMMARY:Stay Tuned – Jazz after Dinner
DESCRIPTION:Olivia Seck | Gesang · Nikolaus Sundhaußen | Klavier · Thoma
 s Schäfer | Bass · Frank Lindenlauf  |Gitarre
ATTACH;FMTTYPE=image/jpeg:https://franklindenlauf.de/wp-content/uploads/20
 26/01/ST2-03-Petrol-1.png
LOCATION:Gasthaus zum Annemie\, Sandgasse 3\, Neuwied (Gladbach)\, 56566\, 
 Deutschland
X-APPLE-STRUCTURED-LOCATION;VALUE=URI;X-ADDRESS=Sandgasse 3\, Neuwied (Glad
 bach)\, 56566\, Deutschland;X-APPLE-RADIUS=100;X-TITLE=Gasthaus zum Annemi
 e:geo:0,0
END:VEVENT
END:VCALENDAR