BEGIN:VCALENDAR
VERSION:2.0
PRODID:-//wp-events-plugin.com//7.2//EN
BEGIN:VEVENT
UID:2@franklindenlauf.de
DTSTART:20250622T110000Z
DTEND:20250622T110000Z
DTSTAMP:20260121T172341Z
URL:https://franklindenlauf.de/events/jazz-fruehschoppen/
SUMMARY:Colours in Jazz – Jazz-Frühschoppen
DESCRIPTION:mit der Combo »Colours in Jazz«.
LOCATION:Stommel-Stiftung\, Bornstraße 23\, Urbar\, 56182 \, Deutschland
X-APPLE-STRUCTURED-LOCATION;VALUE=URI;X-ADDRESS=Bornstraße 23\, Urbar\, 56
 182 \, Deutschland;X-APPLE-RADIUS=100;X-TITLE=Stommel-Stiftung:geo:0,0
END:VEVENT
END:VCALENDAR