BEGIN:VCALENDAR
VERSION:2.0
PRODID:-//wp-events-plugin.com//7.2//EN
BEGIN:VEVENT
UID:4@franklindenlauf.de
DTSTART:20260111T113000Z
DTEND:20260111T123000Z
DTSTAMP:20260121T172310Z
URL:https://franklindenlauf.de/events/late-christmas-mit-stay-tuned/
SUMMARY:Stay Tuned – Late Christmas
DESCRIPTION:
ATTACH;FMTTYPE=image/jpeg:https://franklindenlauf.de/wp-content/uploads/20
 25/12/StayTuned-20260111-PLAKAT-150.png
LOCATION:Evangelisches Gemeindehaus Polch\, Uhlandstraße 9\, Polch\, Rhein
 land-Pfalz\, 56751\, Deutschland
X-APPLE-STRUCTURED-LOCATION;VALUE=URI;X-ADDRESS=Uhlandstraße 9\, Polch\, R
 heinland-Pfalz\, 56751\, Deutschland;X-APPLE-RADIUS=100;X-TITLE=Evangelisc
 hes Gemeindehaus Polch:geo:0,0
END:VEVENT
END:VCALENDAR