BEGIN:VCALENDAR
VERSION:2.0
PRODID:-//wp-events-plugin.com//7.2//EN
BEGIN:VEVENT
UID:5@franklindenlauf.de
DTSTART:20260128T200000Z
DTEND:20260128T210000Z
DTSTAMP:20260121T172918Z
URL:https://franklindenlauf.de/events/opener-der-jazz-session-speakjazzy/
SUMMARY:Stay Tuned – Opener der »SpeakJazzy« Jazz-Session
DESCRIPTION:Olivia Seck | Gesang · Nikolaus Sundhaußen | Klavier · Thoma
 s Schäfer | Bass · Frank Lindenlauf  |Gitarre – Einlass ab 19 Uhr.\n\
 n&nbsp\;
ATTACH;FMTTYPE=image/jpeg:https://franklindenlauf.de/wp-content/uploads/20
 26/01/ST2-03-Plum.png
LOCATION:Schloss Engers\, Alte Schlossstraße 2\, Neuwied (Engers)\, 56566 
 \, Deutschland
X-APPLE-STRUCTURED-LOCATION;VALUE=URI;X-ADDRESS=Alte Schlossstraße 2\, Neu
 wied (Engers)\, 56566 \, Deutschland;X-APPLE-RADIUS=100;X-TITLE=Schloss En
 gers:geo:0,0
END:VEVENT
END:VCALENDAR