BEGIN:VCALENDAR
VERSION:2.0
PRODID:-//wp-events-plugin.com//7.2//EN
BEGIN:VEVENT
UID:3@franklindenlauf.de
DTSTART:20250615T100000Z
DTEND:20250615T100000Z
DTSTAMP:20260121T172233Z
URL:https://franklindenlauf.de/events/stay-tuned-beim-eltztalfestival-2025
 /
SUMMARY:Stay Tuned – Elztalfestival 2025
DESCRIPTION:Zur Festivalseite –&gt\;
ATTACH;FMTTYPE=image/jpeg:https://franklindenlauf.de/wp-content/uploads/20
 25/04/StayTuned-Poster-20250409.png
LOCATION:Elztalfestival\, Brückenmühle\, Roes\, 56754\, Deutschland
X-APPLE-STRUCTURED-LOCATION;VALUE=URI;X-ADDRESS=Brückenmühle\, Roes\, 567
 54\, Deutschland;X-APPLE-RADIUS=100;X-TITLE=Elztalfestival:geo:0,0
END:VEVENT
END:VCALENDAR